BEGIN:VCALENDAR
VERSION:2.0
PRODID:-//Lebe Deine Berufung! - ECPv6.15.17.1//NONSGML v1.0//EN
CALSCALE:GREGORIAN
METHOD:PUBLISH
X-WR-CALNAME:Lebe Deine Berufung!
X-ORIGINAL-URL:https://www.lebe-deine-berufung.de
X-WR-CALDESC:Veranstaltungen für Lebe Deine Berufung!
REFRESH-INTERVAL;VALUE=DURATION:PT1H
X-Robots-Tag:noindex
X-PUBLISHED-TTL:PT1H
BEGIN:VTIMEZONE
TZID:Europe/Berlin
BEGIN:DAYLIGHT
TZOFFSETFROM:+0100
TZOFFSETTO:+0200
TZNAME:CEST
DTSTART:20240331T010000
END:DAYLIGHT
BEGIN:STANDARD
TZOFFSETFROM:+0200
TZOFFSETTO:+0100
TZNAME:CET
DTSTART:20241027T010000
END:STANDARD
BEGIN:DAYLIGHT
TZOFFSETFROM:+0100
TZOFFSETTO:+0200
TZNAME:CEST
DTSTART:20250330T010000
END:DAYLIGHT
BEGIN:STANDARD
TZOFFSETFROM:+0200
TZOFFSETTO:+0100
TZNAME:CET
DTSTART:20251026T010000
END:STANDARD
BEGIN:DAYLIGHT
TZOFFSETFROM:+0100
TZOFFSETTO:+0200
TZNAME:CEST
DTSTART:20260329T010000
END:DAYLIGHT
BEGIN:STANDARD
TZOFFSETFROM:+0200
TZOFFSETTO:+0100
TZNAME:CET
DTSTART:20261025T010000
END:STANDARD
END:VTIMEZONE
BEGIN:VEVENT
DTSTART;TZID=Europe/Berlin:20250627T070000
DTEND;TZID=Europe/Berlin:20250629T170000
DTSTAMP:20260426T004923
CREATED:20230220T160210Z
LAST-MODIFIED:20250301T162143Z
UID:9409-1751007600-1751216400@www.lebe-deine-berufung.de
SUMMARY:Emotional Empowerment Lab Modul #2 - Die Integration von Licht und Schatten
DESCRIPTION:Die Integration von Licht und Schatten\nIn diesem Modul geht es darum\, dich bewusst und verantwortlich mit deiner hellen Seite (Bestimmung) und deiner Schattenseite auseinanderzusetzen. Welche Qualitäten kommen durch dich in diese Welt? Was hindert dich daran\, diese Qualitäten voll auszuleben? Wie sabotierst du dich selbst\, indem du unbewusst deiner Schattenseite die Führung überlässt? Wie kannst du aus der Spirale aus Selbstsabotage und Selbstverurteilung aussteigen und eine gesunde\, bewusste Beziehung zu deinem Schattenanteil entwickeln. Du lernst die Kraft kennen\, die im Schattenanteil deiner Persönlichkeit steckt\, und findest heraus\, wie du sie zur Umsetzung deiner persönlichen Vision nutzen kannst. Durch die Klarheit über Licht & Schatten deiner Selbst\, erhältst du die Freiheit der Wahl. \nIn diesen 6 unterschiedlichen Modul-Trainings erschließt du dir Schritt für Schritt die authentische Kraft\, die naturgemäß in dir angelegt ist und darauf wartet endlich wachgeküsst zu werden. Dabei bearbeiten wir gemeinsam als Gruppe genau die Themen\, die uns üblicherweise daran hindern\, in unsere erwachsene\, verantwortliche Kraft und Größe zu kommen. Durch Übungen\, Gefühlsarbeit\, Gruppen- und Einzelprozesse reißen wir die Mauern ein und überwinden die Hindernisse\, die deinem echten SEIN im Wege stehen. \n\nVoraussetzung ist die vorherige Teilnahme am Emotional Empowerment Basis Training (Expand the Box)! \nLogistische Hinweise zu den Modul-Trainings:\nDauer: jeweils 3 Tage\nZeiten: Tag 1: 09:00 – 22:00 Uhr Tag 2: 09:00 – 22:00 Uhr Tag 3: 09:00 – 17:00 Uhr\nMin/Max. TN-Zahl: 6 – 12 \nInvestition:\nBei Buchung einzelner Module:\n• 650\,00 Euro pro Modul \nBei Buchung des kompletten Jahresprogramms (= 6 Module):\n• 3.600\,00 Euro bei Einmalzahlung (Ratenzahlung möglich) \nAlle Gebühren verstehen sich inkl. USt und zzgl. Kosten für Übernachtung\, Verpflegung und An-/Abreise. \nDu willst dich lediglich zu diesem Modul anmelden: Anmeldung Modul #2 \nDu willst alle 6 Module besuchen und am Jahrestraining teilnehmen: Anmeldung Emotional Empowerment Jahrestraining \nDu willst am Deep Dive (alle 6 Module und 5 Einzelcoaching-Sessions) teilnehmen: Anmeldung Deep Dive \nDu willst am The Power Of Purpose Programm (alle 6 Module und 5 Einzelcoaching-Sessions) teilnehmen: Anmeldung Power Of Purpose
URL:https://www.lebe-deine-berufung.de/veranstaltung/emotional-empowerment-lab-modul-2-die-integration-von-licht-und-schatten/
LOCATION:Süddeutschland
CATEGORIES:Emotional Empowerment,Modul-Training,Possibility Management,Power Of Purpose
ATTACH;FMTTYPE=image/jpeg:https://www.lebe-deine-berufung.de/wp-content/uploads/2023/02/2.jpg
ORGANIZER;CN="Patrizia Patz - Lebe Deine Berufung!":MAILTO:komm@lebe-deine-berufung.de
END:VEVENT
END:VCALENDAR